BEGIN:VCALENDAR
VERSION:2.0
PRODID:-//Imitador de Famosos Mortadelia - ECPv5.0.1//NONSGML v1.0//EN
CALSCALE:GREGORIAN
METHOD:PUBLISH
X-WR-CALNAME:Imitador de Famosos Mortadelia
X-ORIGINAL-URL:https://mortadelia.com
X-WR-CALDESC:Eventos para Imitador de Famosos Mortadelia
BEGIN:VTIMEZONE
TZID:UTC
BEGIN:STANDARD
TZOFFSETFROM:+0000
TZOFFSETTO:+0000
TZNAME:UTC
DTSTART:20230101T000000
END:STANDARD
END:VTIMEZONE
BEGIN:VEVENT
DTSTART;TZID=UTC:20230514T193000
DTEND;TZID=UTC:20230514T210000
DTSTAMP:20260419T191346
CREATED:20230301T091137Z
LAST-MODIFIED:20230301T091137Z
UID:1060-1684092600-1684098000@mortadelia.com
SUMMARY:Fiesta Privada (Huesca)
DESCRIPTION:Entre los 70 y los 80 en Fiesta Privada (Huesca) \n
URL:https://mortadelia.com/agenda/fiesta-privada-huesca/
LOCATION:albelda\, 22558
ATTACH;FMTTYPE=image/jpeg:https://mortadelia.com/wp-content/uploads/2018/05/cartel_entrelos70ylos80_peque.jpg
ORGANIZER;CN="Mortadelia":MAILTO:info@mortadelia.com
END:VEVENT
END:VCALENDAR