BEGIN:VCALENDAR
VERSION:2.0
PRODID:-//Imitador de Famosos Mortadelia - ECPv5.0.1//NONSGML v1.0//EN
CALSCALE:GREGORIAN
METHOD:PUBLISH
X-WR-CALNAME:Imitador de Famosos Mortadelia
X-ORIGINAL-URL:https://mortadelia.com
X-WR-CALDESC:Eventos para Imitador de Famosos Mortadelia
BEGIN:VTIMEZONE
TZID:UTC
BEGIN:STANDARD
TZOFFSETFROM:+0000
TZOFFSETTO:+0000
TZNAME:UTC
DTSTART:20230101T000000
END:STANDARD
END:VTIMEZONE
BEGIN:VEVENT
DTSTART;TZID=UTC:20230429T200000
DTEND;TZID=UTC:20230429T213000
DTSTAMP:20260419T205636
CREATED:20230301T090825Z
LAST-MODIFIED:20230301T090825Z
UID:1057-1682798400-1682803800@mortadelia.com
SUMMARY:Velilla de Cinca (Huesca)
DESCRIPTION:Sincroniza-2 en Velilla de Cinca (Huesca) \n
URL:https://mortadelia.com/agenda/velilla-de-cinca-huesca/
LOCATION:Velilla de Cinca\, 22528
ATTACH;FMTTYPE=image/jpeg:https://mortadelia.com/wp-content/uploads/2022/07/9925A311-21A3-4E8D-88A9-E0E4AA754382-e1658219881140.jpeg
ORGANIZER;CN="Mortadelia":MAILTO:info@mortadelia.com
END:VEVENT
END:VCALENDAR